BEGIN:VCALENDAR
VERSION:2.0
PRODID:-//81.169.145.95//NONSGML kigkonsult.se iCalcreator 2.20//
CALSCALE:GREGORIAN
METHOD:PUBLISH
X-WR-TIMEZONE:UTC
BEGIN:VEVENT
UID:event368@Efa-Erkelenzerfrauenaktion.de
DTSTAMP:20260421T203157Z
CATEGORIES:Treffen
DESCRIPTION:Fällt aus -Efa - Schreibclub\nKategorie: Treffen\nICS-Link: htt
 ps://efa-erkelenzerfrauenaktion.de/index.php?option=com_jem&view=event&id=
 368:faellt-aus-efa-schreibclub\n
DTSTART:20260106T143000Z
DTEND:20260106T163000Z
LOCATION:Bücherei 1. Etage
SUMMARY:Fällt aus -Efa - Schreibclub
URL:https://efa-erkelenzerfrauenaktion.de/index.php?option=com_jem&view=eve
 nt&id=368:faellt-aus-efa-schreibclub
END:VEVENT
END:VCALENDAR